BEGIN:VCALENDAR
VERSION:2.0
PRODID:-//Ulleskelf Parish Council//Meeting Calendar//EN
CALSCALE:GREGORIAN
METHOD:PUBLISH
BEGIN:VEVENT
UID:71184-20250710@ulleskelfparishcouncil.gov.uk
DTSTAMP:20260422T085117Z
DTSTART;VALUE=DATE:20250710
DTEND;VALUE=DATE:20250711
SUMMARY:Council Meeting &#8211\\; Thursday 10th July 2025
DESCRIPTION:Full Council Meeting\nView details: https://ulleskelfparishcouncil.gov.uk/meetings/thursday-10th-july-2025/
URL:https://ulleskelfparishcouncil.gov.uk/meetings/thursday-10th-july-2025/
END:VEVENT
END:VCALENDAR
