BEGIN:VCALENDAR
VERSION:2.0
PRODID:-//Ulleskelf Parish Council//Meeting Calendar//EN
CALSCALE:GREGORIAN
METHOD:PUBLISH
BEGIN:VEVENT
UID:71188-20251113@ulleskelfparishcouncil.gov.uk
DTSTAMP:20260422T090845Z
DTSTART;VALUE=DATE:20251113
DTEND;VALUE=DATE:20251114
SUMMARY:Council Meeting -Thursday 13th November 2025
DESCRIPTION:Full Council Meeting\nView details: https://ulleskelfparishcouncil.gov.uk/meetings/thursday-14th-november-2024/
URL:https://ulleskelfparishcouncil.gov.uk/meetings/thursday-14th-november-2024/
END:VEVENT
END:VCALENDAR
